BEGIN:VCALENDAR
VERSION:2.0
PRODID:-//Gotta Be Superior - ECPv6.15.18//NONSGML v1.0//EN
CALSCALE:GREGORIAN
METHOD:PUBLISH
X-ORIGINAL-URL:https://gottabesuperior.com
X-WR-CALDESC:Events for Gotta Be Superior
REFRESH-INTERVAL;VALUE=DURATION:PT1H
X-Robots-Tag:noindex
X-PUBLISHED-TTL:PT1H
BEGIN:VTIMEZONE
TZID:America/Chicago
BEGIN:DAYLIGHT
TZOFFSETFROM:-0600
TZOFFSETTO:-0500
TZNAME:CDT
DTSTART:20250309T080000
END:DAYLIGHT
BEGIN:STANDARD
TZOFFSETFROM:-0500
TZOFFSETTO:-0600
TZNAME:CST
DTSTART:20251102T070000
END:STANDARD
BEGIN:DAYLIGHT
TZOFFSETFROM:-0600
TZOFFSETTO:-0500
TZNAME:CDT
DTSTART:20260308T080000
END:DAYLIGHT
BEGIN:STANDARD
TZOFFSETFROM:-0500
TZOFFSETTO:-0600
TZNAME:CST
DTSTART:20261101T070000
END:STANDARD
BEGIN:DAYLIGHT
TZOFFSETFROM:-0600
TZOFFSETTO:-0500
TZNAME:CDT
DTSTART:20270314T080000
END:DAYLIGHT
BEGIN:STANDARD
TZOFFSETFROM:-0500
TZOFFSETTO:-0600
TZNAME:CST
DTSTART:20271107T070000
END:STANDARD
END:VTIMEZONE
BEGIN:VEVENT
DTSTART;TZID=America/Chicago:20260601T180000
DTEND;TZID=America/Chicago:20260601T200000
DTSTAMP:20260424T165805
CREATED:20260423T155716Z
LAST-MODIFIED:20260423T155716Z
UID:10019178-1780336800-1780344000@gottabesuperior.com
SUMMARY:Music in the Park Mondays @ Legion Park - Washburn WI
DESCRIPTION:MONDAYS IN WASHBURN = SUMMER MAGIC 🍔🎶\nLooking for the perfect way to spend your Monday nights this summer? We’ve got you covered 👇\n✨ Music in the Park\n🎸 Live music at Legion Park\n🕕 6–8 PM\n✨ Food Truck Mondays\n🌮 Rotating food trucks every week\n🕚 11 AM–3 PM & 5–7:30 PM\n📍 Central Ave (between The Club & Cultural Center)\n📅 Every Monday | June through September\nGrab dinner\, bring a blanket/chair\, and head to the park for an evening of incredible live music\, good food\, and even better family friendly community vibes.\nThis is what summer in Washburn is all about
URL:https://gottabesuperior.com/event/music-in-the-park-mondays-legion-park-washburn-wi/2026-06-01/
LOCATION:Legion Park\, 50 E Bayfield St\, Washburn\, United States
CATEGORIES:Art,Community Gathering,Culture,Event/Game/Sports Spectator,Free,Kids & Family,Live Entertainment
ATTACH;FMTTYPE=image/jpeg:https://gottabesuperior.com/wp-content/uploads/2026/04/671285383_1417101800459136_3235269043194472076_n.jpg
ORGANIZER;CN="Washburn Area Chamber":MAILTO:info@washburnchamber.com
END:VEVENT
BEGIN:VEVENT
DTSTART;TZID=America/Chicago:20260725T090000
DTEND;TZID=America/Chicago:20260725T150000
DTSTAMP:20260424T165805
CREATED:20260423T154257Z
LAST-MODIFIED:20260423T154257Z
UID:10019177-1784970000-1784991600@gottabesuperior.com
SUMMARY:North Coast Car Show @ Harbor Table - Washburn WI
DESCRIPTION:
URL:https://gottabesuperior.com/event/north-coast-car-show-harbor-table-washburn-wi/
LOCATION:Harbor Table\, 128 Harbor View Dr\, Washburn\, United States
CATEGORIES:Car Show/Racing,Community Gathering,Culture,Event/Game/Sport Participation,Event/Game/Sports Spectator
ATTACH;FMTTYPE=image/jpeg:https://gottabesuperior.com/wp-content/uploads/2026/04/Washburn-Car-Show.jpg
ORGANIZER;CN="Washburn Area Chamber":MAILTO:info@washburnchamber.com
END:VEVENT
END:VCALENDAR