BEGIN:VCALENDAR
VERSION:2.0
PRODID:-//Gotta Be Superior - ECPv6.15.18//NONSGML v1.0//EN
CALSCALE:GREGORIAN
METHOD:PUBLISH
X-WR-CALNAME:Gotta Be Superior
X-ORIGINAL-URL:https://gottabesuperior.com
X-WR-CALDESC:Events for Gotta Be Superior
REFRESH-INTERVAL;VALUE=DURATION:PT1H
X-Robots-Tag:noindex
X-PUBLISHED-TTL:PT1H
BEGIN:VTIMEZONE
TZID:America/Chicago
BEGIN:DAYLIGHT
TZOFFSETFROM:-0600
TZOFFSETTO:-0500
TZNAME:CDT
DTSTART:20250309T080000
END:DAYLIGHT
BEGIN:STANDARD
TZOFFSETFROM:-0500
TZOFFSETTO:-0600
TZNAME:CST
DTSTART:20251102T070000
END:STANDARD
BEGIN:DAYLIGHT
TZOFFSETFROM:-0600
TZOFFSETTO:-0500
TZNAME:CDT
DTSTART:20260308T080000
END:DAYLIGHT
BEGIN:STANDARD
TZOFFSETFROM:-0500
TZOFFSETTO:-0600
TZNAME:CST
DTSTART:20261101T070000
END:STANDARD
BEGIN:DAYLIGHT
TZOFFSETFROM:-0600
TZOFFSETTO:-0500
TZNAME:CDT
DTSTART:20270314T080000
END:DAYLIGHT
BEGIN:STANDARD
TZOFFSETFROM:-0500
TZOFFSETTO:-0600
TZNAME:CST
DTSTART:20271107T070000
END:STANDARD
END:VTIMEZONE
BEGIN:VEVENT
DTSTART;TZID=America/Chicago:20260418T130000
DTEND;TZID=America/Chicago:20260418T200000
DTSTAMP:20260419T155148
CREATED:20260401T231536Z
LAST-MODIFIED:20260401T231536Z
UID:10018951-1776517200-1776542400@gottabesuperior.com
SUMMARY:All Day Family Skate @ World of Wheels - Superior
DESCRIPTION:$9.95 plus rental
URL:https://gottabesuperior.com/event/all-day-family-skate-world-of-wheels-superior/2026-04-18/
LOCATION:World of Wheels\, 1218 Oakes Ave\, Superior\, WI\, 54880\, United States
CATEGORIES:Community Gathering,Event/Game/Sport Participation,Kids & Family
ATTACH;FMTTYPE=image/png:https://gottabesuperior.com/wp-content/uploads/2024/08/World-of-Wheels.png
END:VEVENT
BEGIN:VEVENT
DTSTART;TZID=America/Chicago:20260417T170000
DTEND;TZID=America/Chicago:20260417T200000
DTSTAMP:20260419T155148
CREATED:20260401T230555Z
LAST-MODIFIED:20260401T230555Z
UID:10018933-1776445200-1776456000@gottabesuperior.com
SUMMARY:Super Glow Skate! @ World of Wheels - Superior
DESCRIPTION:$9.95 plus rental
URL:https://gottabesuperior.com/event/super-glow-skate-world-of-wheels-superior/2026-04-17/
LOCATION:World of Wheels\, 1218 Oakes Ave\, Superior\, WI\, 54880\, United States
CATEGORIES:Event/Game/Sport Participation,Kids & Family
ATTACH;FMTTYPE=image/png:https://gottabesuperior.com/wp-content/uploads/2024/08/World-of-Wheels.png
END:VEVENT
BEGIN:VEVENT
DTSTART;TZID=America/Chicago:20260415T193000
DTEND;TZID=America/Chicago:20260415T220000
DTSTAMP:20260419T155148
CREATED:20260401T225544Z
LAST-MODIFIED:20260401T225544Z
UID:10018922-1776281400-1776290400@gottabesuperior.com
SUMMARY:Adult Skate Night @ World of Wheels - Superior
DESCRIPTION:$10.90 plus rental \n$9.90 plus rental College Rate w/photo ID
URL:https://gottabesuperior.com/event/adult-skate-night-world-of-wheels-superior/2026-04-15/
LOCATION:World of Wheels\, 1218 Oakes Ave\, Superior\, WI\, 54880\, United States
CATEGORIES:Community Gathering,Event/Game/Sport Participation
ATTACH;FMTTYPE=image/png:https://gottabesuperior.com/wp-content/uploads/2024/08/World-of-Wheels.png
END:VEVENT
BEGIN:VEVENT
DTSTART;TZID=America/Chicago:20260415T170000
DTEND;TZID=America/Chicago:20260415T190000
DTSTAMP:20260419T155148
CREATED:20260401T224841Z
LAST-MODIFIED:20260401T224841Z
UID:10018914-1776272400-1776279600@gottabesuperior.com
SUMMARY:Midweek All Ages Skate @ World of Wheels - Superior
DESCRIPTION:$9.49 plus rental
URL:https://gottabesuperior.com/event/midweek-all-ages-skate-world-of-wheels-superior/2026-04-15/
LOCATION:World of Wheels\, 1218 Oakes Ave\, Superior\, WI\, 54880\, United States
CATEGORIES:Community Gathering,Event/Game/Sport Participation,Kids & Family
ATTACH;FMTTYPE=image/png:https://gottabesuperior.com/wp-content/uploads/2024/08/World-of-Wheels.png
END:VEVENT
BEGIN:VEVENT
DTSTART;TZID=America/Chicago:20260415T093000
DTEND;TZID=America/Chicago:20260415T120000
DTSTAMP:20260419T155148
CREATED:20260401T224252Z
LAST-MODIFIED:20260401T224252Z
UID:10018906-1776245400-1776254400@gottabesuperior.com
SUMMARY:Adult Morning Skate @ World of Wheels - Superior
DESCRIPTION:$9.49 plus rental
URL:https://gottabesuperior.com/event/adult-morning-skate-world-of-wheels-superior/2026-04-15/
LOCATION:World of Wheels\, 1218 Oakes Ave\, Superior\, WI\, 54880\, United States
CATEGORIES:Community Gathering,DJ Music & Karaoke,Event/Game/Sport Participation
ATTACH;FMTTYPE=image/png:https://gottabesuperior.com/wp-content/uploads/2024/08/World-of-Wheels.png
END:VEVENT
BEGIN:VEVENT
DTSTART;TZID=America/Chicago:20260409T130000
DTEND;TZID=America/Chicago:20260409T153000
DTSTAMP:20260419T155148
CREATED:20260401T230011Z
LAST-MODIFIED:20260401T230011Z
UID:10018929-1775739600-1775748600@gottabesuperior.com
SUMMARY:Homeschool Open Skate @ World of Wheels - Superior
DESCRIPTION:$9.49 plus tax
URL:https://gottabesuperior.com/event/homeschool-open-skate-world-of-wheels-superior/2026-04-09/
LOCATION:World of Wheels\, 1218 Oakes Ave\, Superior\, WI\, 54880\, United States
CATEGORIES:Community Gathering,Event/Game/Sport Participation,Homeschoolers event
ATTACH;FMTTYPE=image/png:https://gottabesuperior.com/wp-content/uploads/2024/08/World-of-Wheels.png
END:VEVENT
BEGIN:VEVENT
DTSTART;TZID=America/Chicago:20260406T170000
DTEND;TZID=America/Chicago:20260406T193000
DTSTAMP:20260419T155148
CREATED:20260401T223213Z
LAST-MODIFIED:20260401T223740Z
UID:10018903-1775494800-1775503800@gottabesuperior.com
SUMMARY:Christian Music Family Skate @ World of Wheels - Superior
DESCRIPTION:$9.49 plus rentals
URL:https://gottabesuperior.com/event/christian-music-family-skate-world-of-wheels-superior/2026-04-06/
LOCATION:World of Wheels\, 1218 Oakes Ave\, Superior\, WI\, 54880\, United States
CATEGORIES:DJ Music & Karaoke,Event/Game/Sport Participation,Kids & Family
ATTACH;FMTTYPE=image/png:https://gottabesuperior.com/wp-content/uploads/2024/08/World-of-Wheels.png
END:VEVENT
BEGIN:VEVENT
DTSTART;TZID=America/Chicago:20260401T080000
DTEND;TZID=America/Chicago:20260401T170000
DTSTAMP:20260419T155148
CREATED:20260401T231850Z
LAST-MODIFIED:20260401T231850Z
UID:10018958-1775030400-1775062800@gottabesuperior.com
SUMMARY:Sunday Fun Day Skate @ World of Wheels - Superior
DESCRIPTION:$9.95 plus rental
URL:https://gottabesuperior.com/event/sunday-fun-day-skate-world-of-wheels-superior/
LOCATION:World of Wheels\, 1218 Oakes Ave\, Superior\, WI\, 54880\, United States
CATEGORIES:Community Gathering,Event/Game/Sport Participation,Kids & Family
ATTACH;FMTTYPE=image/png:https://gottabesuperior.com/wp-content/uploads/2024/08/World-of-Wheels.png
END:VEVENT
END:VCALENDAR