BEGIN:VCALENDAR
VERSION:2.0
PRODID:-//Gotta Be Superior - ECPv6.15.18//NONSGML v1.0//EN
CALSCALE:GREGORIAN
METHOD:PUBLISH
X-ORIGINAL-URL:https://gottabesuperior.com
X-WR-CALDESC:Events for Gotta Be Superior
REFRESH-INTERVAL;VALUE=DURATION:PT1H
X-Robots-Tag:noindex
X-PUBLISHED-TTL:PT1H
BEGIN:VTIMEZONE
TZID:America/Chicago
BEGIN:DAYLIGHT
TZOFFSETFROM:-0600
TZOFFSETTO:-0500
TZNAME:CDT
DTSTART:20250309T080000
END:DAYLIGHT
BEGIN:STANDARD
TZOFFSETFROM:-0500
TZOFFSETTO:-0600
TZNAME:CST
DTSTART:20251102T070000
END:STANDARD
BEGIN:DAYLIGHT
TZOFFSETFROM:-0600
TZOFFSETTO:-0500
TZNAME:CDT
DTSTART:20260308T080000
END:DAYLIGHT
BEGIN:STANDARD
TZOFFSETFROM:-0500
TZOFFSETTO:-0600
TZNAME:CST
DTSTART:20261101T070000
END:STANDARD
BEGIN:DAYLIGHT
TZOFFSETFROM:-0600
TZOFFSETTO:-0500
TZNAME:CDT
DTSTART:20270314T080000
END:DAYLIGHT
BEGIN:STANDARD
TZOFFSETFROM:-0500
TZOFFSETTO:-0600
TZNAME:CST
DTSTART:20271107T070000
END:STANDARD
END:VTIMEZONE
BEGIN:VEVENT
DTSTART;TZID=America/Chicago:20260429T203000
DTEND;TZID=America/Chicago:20260429T223000
DTSTAMP:20260422T111717
CREATED:20260412T223344Z
LAST-MODIFIED:20260412T223344Z
UID:10019046-1777494600-1777501800@gottabesuperior.com
SUMMARY:Homegrown Music Festival@ Kom-on-Inn - Duluth
DESCRIPTION:8:30pm      MINNESOTA VICE \n9:30pm      Dirt Magnet \n21+ Show \n  \nDuring Homegrown\, admission wristbands can be purchased at any venue that requires them. Advance tickets are available at Globe News (Superior\, WI)\, and Zenith Bookstore (Duluth\, MN)\, and remain on sale throughout the week of Homegrown. Wristband does not guarantee entry to venues at capacity — if you want to see a specific band\, get there early! \nWeeklong Wristband: All eight days – $40 \nSingle-day Wristband: Friday or Saturday – $25 \nSingle-night: Monday through Thursday – $15
URL:https://gottabesuperior.com/event/homegrown-music-festival-kom-on-inn-duluth/
LOCATION:Kom-on-Inn\, 332 N 57th Ave W\, Duluth\, MN\, United States
CATEGORIES:Art,Community Gathering,Event/Game/Sports Spectator,Live Entertainment
ATTACH;FMTTYPE=image/jpeg:https://gottabesuperior.com/wp-content/uploads/2023/02/DuluthHomegrownBanner.jpg
END:VEVENT
END:VCALENDAR